BEGIN:VCALENDAR
VERSION:2.0
PRODID:-//Northern Toy Fair - ECPv4.9.10//NONSGML v1.0//EN
CALSCALE:GREGORIAN
METHOD:PUBLISH
X-WR-CALNAME:Northern Toy Fair
X-ORIGINAL-URL:https://northerntoyfairs.com
X-WR-CALDESC:Events for Northern Toy Fair
BEGIN:VTIMEZONE
TZID:UTC
BEGIN:STANDARD
TZOFFSETFROM:+0000
TZOFFSETTO:+0000
TZNAME:UTC
DTSTART:20260101T000000
END:STANDARD
END:VTIMEZONE
BEGIN:VEVENT
DTSTART;TZID=UTC:20260208T103000
DTEND;TZID=UTC:20260208T150000
DTSTAMP:20260421T200927
CREATED:20250908T192753Z
LAST-MODIFIED:20250908T201428Z
UID:5713-1770546600-1770562800@northerntoyfairs.com
SUMMARY:Rainton Toy\, Train & Sci-Fi Fair
DESCRIPTION:📍 Sunderland Live Arena (DH4 5PH)\n🗓 Sundays; 8th Feb\, 29th Mar\, 14th Jun\, 13th Sep\, 15th Nov 2026\n🕙 10:30am – 3pm (Early Bird entry from 8:30am) \n👏All of our Toy Fairs have a great selection of New & Vintage Toys\, Models & Collectables\n✅️3d Models ✅️Action Force ✅️Action Man ✅️Air Fix ✅️Atlas ✅️Bachmann ✅️Batman ✅️Bburago ✅️Bears ✅️Books ✅️Britains ✅️Corgi ✅️DC Comics ✅️Dinky ✅️Disney ✅️Dolls ✅️Dr Who ✅️EFE ✅️Football Memorabilia ✅️Funko Pop! ✅️Harry Potter ✅️Hasbro ✅️Hornby ✅️Hot Wheels ✅️James Bond ✅️Kenner ✅️Lego ✅️Lima ✅️Marvel ✅️Matchbox ✅️Minichamps ✅️Model Soldiers ✅️Oxford Diecast ✅️Palitoy ✅️Pokémon ✅️Revell ✅️Scalextric ✅️Slot Cars ✅️Subbuteo ✅️Star Trek ✅️Star Wars ✅️Tamiya ✅️Teddies ✅️Tekno ✅️Timpo ✅️Tin Plate ✅️TMNT ✅️Transformers ✅️Tri-ang ✅️Vanguards ✅️Video Games ✅️Yesteryear & so much more……. \n Also a working Model Train Exhibit \n😃 A friendly atmosphere\n😲200+ tables\n🍔🥤Cafe/Bar\n🆓️ Free on-site Parking \n💰 All of our Toy Fairs are pay on entry (no need to pre-book) \nAdmission (10:30am): Adult – £4.50\, Senior – £ 3.50\, Under 16s – £2.50\n(No charge for Toddlers) \nEarly entry available from 8:30am: Adult/Senior – £8.00\, Under 16s – £4.00 \n💷 Cash is recommended – it is cash only for entry\, only some Stall Holders take cards. Nearest Cash Point > Tesco Express in Hetton-le-Hole (DH5 9PE) 💷 \n🚗 5 mins drive from A1 Jct 62 “Durham City Junction” \n🚌 Local bus routes 20\, 20A\, X20 \nCheck out our website for more details & Stall Holder info;\n🌐 https://www.northerntoyfairs.com/ \nContact us if you have any queries or for Stall Holder bookings;\n📲 DM us on Facebook\n📧 northerntoyfairs@hotmail.com\n📞07504035955 \nFollow our facebook page:\nhttps://www.facebook.com/NorthernToyFairs1/ \n
URL:https://northerntoyfairs.com/calendar/rainton-toy-train-sci-fi-fair-6/
ATTACH;FMTTYPE=image/jpeg:https://northerntoyfairs.com/wp-content/uploads/2024/02/20231119_104114.jpg
ORGANIZER;CN="Northern%20Toy%20Fairs":MAILTO:northerntoyfairs@hotmail.com
END:VEVENT
END:VCALENDAR