BEGIN:VCALENDAR
VERSION:2.0
PRODID:-//Northern Toy Fair - ECPv4.9.10//NONSGML v1.0//EN
CALSCALE:GREGORIAN
METHOD:PUBLISH
X-WR-CALNAME:Northern Toy Fair
X-ORIGINAL-URL:https://northerntoyfairs.com
X-WR-CALDESC:Events for Northern Toy Fair
BEGIN:VTIMEZONE
TZID:UTC
BEGIN:STANDARD
TZOFFSETFROM:+0000
TZOFFSETTO:+0000
TZNAME:UTC
DTSTART:20260101T000000
END:STANDARD
END:VTIMEZONE
BEGIN:VEVENT
DTSTART;TZID=UTC:20260321T103000
DTEND;TZID=UTC:20260321T150000
DTSTAMP:20260424T113845
CREATED:20250910T213514Z
LAST-MODIFIED:20250910T213514Z
UID:5771-1774089000-1774105200@northerntoyfairs.com
SUMMARY:Blackpool Toy\, Train & Sci-Fi Fair
DESCRIPTION:📍 Blackpool Sports Centre (FY3 9HQ)\n🗓 Saturdays; 21st Mar\, 9th May\, 25th Jul\, 17th Oct 2026\n🕙 10:30am – 3pm (Early Bird entry from 8:30am) \n👏All of our Toy Fairs have a great selection of New & Vintage Toys\, Models & Collectables\n✅️3d Models ✅️Action Force ✅️Action Man ✅️Air Fix ✅️Atlas ✅️Bachmann ✅️Batman ✅️Bburago ✅️Bears ✅️Books ✅️Britains ✅️Corgi ✅️DC Comics ✅️Dinky ✅️Disney ✅️Dolls ✅️Dr Who ✅️EFE ✅️Football Memorabilia ✅️Funko Pop! ✅️Harry Potter ✅️Hasbro ✅️Hornby ✅️Hot Wheels ✅️James Bond ✅️Kenner ✅️Lego ✅️Lima ✅️Marvel ✅️Matchbox ✅️Minichamps ✅️Model Soldiers ✅️Oxford Diecast ✅️Palitoy ✅️Pokémon ✅️Revell ✅️Scalextric ✅️Slot Cars ✅️Subbuteo ✅️Star Trek ✅️Star Wars ✅️Tamiya ✅️Teddies ✅️Tekno ✅️Timpo ✅️Tin Plate ✅️TMNT ✅️Transformers ✅️Tri-ang ✅️Vanguards ✅️Video Games ✅️Yesteryear & so much more……. \n😃 A friendly atmosphere\n😲220+ tables\n🍔🥤Refreshments available\n🆓️ Free on-site Parking \n All of our Toy Fairs are pay on entry (no need to pre-book) \nAdmission (10:30am): Adult – £4.50\, Senior – £ 3.50\, Under 16s – £2.50\n(No charge for Toddlers) \nEarly entry available from 8:30am: Adult/Senior – £8.00\, Under 16s – £4.00 \n💷 Cash is recommended – it is cash only for entry\, only some Stall Holders take cards. Nearest Cash Point > Tesco Express in Whitegate Drive (FY3 9BZ) 💷 \n🚗 10 mins drive from M55 \n🚌 Local bus route 18 \nCheck out our website for more details & Stall Holder info;\n🌐 https://www.northerntoyfairs.com/ \nContact us if you have any queries or for Stall Holder bookings;\n📲 DM us on Facebook\n📧 northerntoyfairs@hotmail.com\n📞07504035955 \nFollow our facebook page:\nhttps://www.facebook.com/NorthernToyFairs1/ \n
URL:https://northerntoyfairs.com/calendar/blackpool-toy-train-sci-fi-fair-4/
LOCATION:Blackpool Sports Centre\, West Park Drive\, Blackpool\, Lancashire\, FY3 9HQ\, United Kingdom
ATTACH;FMTTYPE=image/jpeg:https://northerntoyfairs.com/wp-content/uploads/2025/09/20250405_110622.jpg
ORGANIZER;CN="Northern%20Toy%20Fairs":MAILTO:northerntoyfairs@hotmail.com
END:VEVENT
END:VCALENDAR